BEGIN:VCALENDAR
VERSION:2.0
PRODID:-//divinginfo.mt - ECPv6.15.20//NONSGML v1.0//EN
CALSCALE:GREGORIAN
METHOD:PUBLISH
X-WR-CALNAME:divinginfo.mt
X-ORIGINAL-URL:https://www.divinginfo.mt
X-WR-CALDESC:Events for divinginfo.mt
REFRESH-INTERVAL;VALUE=DURATION:PT1H
X-Robots-Tag:noindex
X-PUBLISHED-TTL:PT1H
BEGIN:VTIMEZONE
TZID:Europe/Malta
BEGIN:DAYLIGHT
TZOFFSETFROM:+0100
TZOFFSETTO:+0200
TZNAME:CEST
DTSTART:20250330T010000
END:DAYLIGHT
BEGIN:STANDARD
TZOFFSETFROM:+0200
TZOFFSETTO:+0100
TZNAME:CET
DTSTART:20251026T010000
END:STANDARD
BEGIN:DAYLIGHT
TZOFFSETFROM:+0100
TZOFFSETTO:+0200
TZNAME:CEST
DTSTART:20260329T010000
END:DAYLIGHT
BEGIN:STANDARD
TZOFFSETFROM:+0200
TZOFFSETTO:+0100
TZNAME:CET
DTSTART:20261025T010000
END:STANDARD
BEGIN:DAYLIGHT
TZOFFSETFROM:+0100
TZOFFSETTO:+0200
TZNAME:CEST
DTSTART:20270328T010000
END:DAYLIGHT
BEGIN:STANDARD
TZOFFSETFROM:+0200
TZOFFSETTO:+0100
TZNAME:CET
DTSTART:20271031T010000
END:STANDARD
END:VTIMEZONE
BEGIN:VEVENT
DTSTART;VALUE=DATE:20261203
DTEND;VALUE=DATE:20261205
DTSTAMP:20260422T180309
CREATED:20251218T172847Z
LAST-MODIFIED:20251218T172914Z
UID:7650-1796256000-1796428799@www.divinginfo.mt
SUMMARY:BCT Hubs Conference: Widening the Big Blue Horizon - Bulgaria
DESCRIPTION:2nd International Conference\nWidening the Big Blue Horizon\n”Innovative Practices & Policy Pathways for the\nSustainable Management & Protection of Underwater Cultural Heritage”\nDecember 3-4\, 2026 │ Cultural Centre ”Sea Casino” (Burgas\,Bulgaria) │Hybrid\nFollowing  the success of the 1st BCThubs Conference held in Volos\, Greece\, in December 2024\, we are excited to announce the 2nd Edition which will take place in Burgas\, Bulgaria in December 2026! \nThe registration is officially open and participants are invited to contribute with Paper and/or Poster presentation. Submit your Abstracts by 31 January 2026! \nRegistration is simple and completely free! Secure your spot now by visiting the link below:\nRegister Now\nDon’t miss this opportunity to join us to and be part of shaping the future of underwater research. \nFor more information\, visit our website or contact with conference@bcthubs.eu\nFollow us and don’t miss any updates!
URL:https://www.divinginfo.mt/event/bct-hubs-conference-widening-the-big-blue-horizon-bulgaria/
LOCATION:Bugas\, Bulgaria\, Cultural Centre ''Sea Casino''\, Burgas\, Bulgaria
CATEGORIES:Conference
ATTACH;FMTTYPE=image/png:https://www.divinginfo.mt/wp-content/uploads/2025/12/BCTHUBConfBulg.png
ORGANIZER;CN="BCTHubs.eu Malta":MAILTO:simon.caruana@its.edu.mt
END:VEVENT
END:VCALENDAR